BEGIN:VCALENDAR
VERSION:2.0
PRODID:-//http://cailaw.org//NONSGML kigkonsult.se iCalcreator 2.14//
METHOD:PUBLISH
X-WR-TIMEZONE:America/Chicago
BEGIN:VEVENT
UID:20260421T144655CDT-46635p7gfb@http://cailaw.org
DTSTAMP:20260421T194655Z
DESCRIPTION:What’s a supervisor? What’s a leader?  What’s the difference?
DTSTART:20260928T000000
DTEND:20261023T000000
LOCATION:Plano\, Texas\, USA
SUMMARY:151st School of Police Supervision
END:VEVENT
END:VCALENDAR
