BEGIN:VCALENDAR
VERSION:2.0
PRODID:-//http://cailaw.org//NONSGML kigkonsult.se iCalcreator 2.14//
METHOD:PUBLISH
X-WR-TIMEZONE:America/Chicago
BEGIN:VEVENT
UID:20260420T145833CDT-8089NLeJJ5@http://cailaw.org
DTSTAMP:20260420T195833Z
DESCRIPTION:Lessons\, Legacies\, and the Path Forward
DTSTART:20260514T000000
DTEND:20260515T000000
LOCATION:Fort Worth\, Texas\, USA
SUMMARY:20th Annual Actual Innocence
END:VEVENT
END:VCALENDAR
