BEGIN:VCALENDAR
VERSION:2.0
PRODID:-//http://cailaw.org//NONSGML kigkonsult.se iCalcreator 2.14//
METHOD:PUBLISH
X-WR-TIMEZONE:America/Chicago
BEGIN:VEVENT
UID:20260420T184510CDT-1561U7kLZs@http://cailaw.org
DTSTAMP:20260420T234510Z
DESCRIPTION:Hosted by Pearland Police Dept.
DTSTART:20261102T000000
DTEND:20261113T000000
LOCATION:Sugarland\, Texas\, USA
SUMMARY:Texas Command Leadership Academy
END:VEVENT
END:VCALENDAR
