BEGIN:VCALENDAR
VERSION:2.0
PRODID:-//http://cailaw.org//NONSGML kigkonsult.se iCalcreator 2.14//
METHOD:PUBLISH
X-WR-TIMEZONE:America/Chicago
BEGIN:VEVENT
UID:20260423T151035CDT-20290cBu49@http://cailaw.org
DTSTAMP:20260423T201035Z
DESCRIPTION:Hosted by the Young Energy Professionals Committee
DTSTART:20260519T000000
DTEND:20260520T000000
LOCATION:Webinar begins at 2:00 pm Central
SUMMARY:The Strait of Hormuz and Beyond: Current Maritime Considerations fo
 r the US Energy Market
END:VEVENT
END:VCALENDAR
